BEGIN:VCALENDAR
VERSION:2.0
PRODID:-//Hammer Theatre Center - ECPv6.15.20//NONSGML v1.0//EN
CALSCALE:GREGORIAN
METHOD:PUBLISH
X-ORIGINAL-URL:https://hammertheatre.com
X-WR-CALDESC:Events for Hammer Theatre Center
REFRESH-INTERVAL;VALUE=DURATION:PT1H
X-Robots-Tag:noindex
X-PUBLISHED-TTL:PT1H
BEGIN:VTIMEZONE
TZID:America/Los_Angeles
BEGIN:DAYLIGHT
TZOFFSETFROM:-0800
TZOFFSETTO:-0700
TZNAME:PDT
DTSTART:20180311T100000
END:DAYLIGHT
BEGIN:STANDARD
TZOFFSETFROM:-0700
TZOFFSETTO:-0800
TZNAME:PST
DTSTART:20181104T090000
END:STANDARD
BEGIN:DAYLIGHT
TZOFFSETFROM:-0800
TZOFFSETTO:-0700
TZNAME:PDT
DTSTART:20190310T100000
END:DAYLIGHT
BEGIN:STANDARD
TZOFFSETFROM:-0700
TZOFFSETTO:-0800
TZNAME:PST
DTSTART:20191103T090000
END:STANDARD
BEGIN:DAYLIGHT
TZOFFSETFROM:-0800
TZOFFSETTO:-0700
TZNAME:PDT
DTSTART:20200308T100000
END:DAYLIGHT
BEGIN:STANDARD
TZOFFSETFROM:-0700
TZOFFSETTO:-0800
TZNAME:PST
DTSTART:20201101T090000
END:STANDARD
BEGIN:DAYLIGHT
TZOFFSETFROM:-0800
TZOFFSETTO:-0700
TZNAME:PDT
DTSTART:20210314T100000
END:DAYLIGHT
BEGIN:STANDARD
TZOFFSETFROM:-0700
TZOFFSETTO:-0800
TZNAME:PST
DTSTART:20211107T090000
END:STANDARD
END:VTIMEZONE
BEGIN:VEVENT
DTSTART;TZID=America/Los_Angeles:20200716T080000
DTEND;TZID=America/Los_Angeles:20200716T170000
DTSTAMP:20260422T035331
CREATED:20200716T192943Z
LAST-MODIFIED:20200716T192943Z
UID:3792-1594886400-1594918800@hammertheatre.com
SUMMARY:Pieces of the Moon
DESCRIPTION:
URL:https://hammertheatre.com/event/pieces-of-the-moon/
CATEGORIES:Theatre
END:VEVENT
BEGIN:VEVENT
DTSTART;TZID=America/Los_Angeles:20200316T193000
DTEND;TZID=America/Los_Angeles:20200316T193000
DTSTAMP:20260422T035331
CREATED:20190701T201203Z
LAST-MODIFIED:20200316T210419Z
UID:3009-1584387000-1584387000@hammertheatre.com
SUMMARY:MUMMENSCHANZ — You and Me
DESCRIPTION:For nearly five decades\, MUMMENSCHANZ has been the epitome of contemporary mask theater worldwide\, crossing language barriers and cultures. Without spoken word\, purely visually\, and completely without music and set design\, only with masks and bodies against a black background\, the artists appear. \nThe MUMMENSCHANZ theater was created in 1972 in Paris\, on the tremendous momentum of its three founders\, after a very instructive school and study period during the sixties and after a three-year experimental trial in various disciplines. \nAfter more than 10 years of creative experimentation and research in all sorts of theaters in Germany and abroad\, accompanied by a passionate love of playing\, including a 3-year Broadway performance (from 1977 to ‘79)\, MUMMENSCHANZ crossed the threshold and began to perform for the whole wide world. With a repertoire of over 100 techniques\, MUMMENSCHANZ is still a guest on all continents and is still one of the most popular theater attractions in the world.
URL:https://hammertheatre.vbotickets.com/event/Hammer_Presents_Mummenschanz/34789
CATEGORIES:Theatre
END:VEVENT
BEGIN:VEVENT
DTSTART;TZID=America/Los_Angeles:20200204T193000
DTEND;TZID=America/Los_Angeles:20200204T193000
DTSTAMP:20260422T035331
CREATED:20190703T183043Z
LAST-MODIFIED:20200113T213859Z
UID:3038-1580844600-1580844600@hammertheatre.com
SUMMARY:Cirque Flip Fabrique Blizzard
DESCRIPTION:FLIP Fabrique is the story of each one of us. \nA story of long-time friends\, \nwho were dreaming of a collective project that would draw the people in; \na project of circus that suspends time\, \nfeeds our imagination and \nmoves us by its beauty. \n  \nA circus that displays the colors of its people \ninspired by those near and dear to us; \nA circus where we can be audacious\, \nand express ourselves freely \nthrough unadulterated fun\, high spirits\, joy. \n  \nA circus of closeness \nwhere the relationships that bind us to each other evolve over time \nthrough the ups and downs \nto make us grow\, \nand always be one. \n  \nThis winter\, join us as FLIP Fabrique brings the snow to the Hammer\, opening up a new blank page. In the shape of a Blizzard.
URL:https://hammertheatre.com/event/cirque-flip-fabrique-blizzard/
CATEGORIES:Theatre
END:VEVENT
BEGIN:VEVENT
DTSTART;TZID=America/Los_Angeles:20200117T190000
DTEND;TZID=America/Los_Angeles:20200117T190000
DTSTAMP:20260422T035331
CREATED:20200113T214853Z
LAST-MODIFIED:20200113T214853Z
UID:3463-1579287600-1579287600@hammertheatre.com
SUMMARY:Starting Arts presents Mary Poppins
DESCRIPTION:The jack-of-all trades\, Bert\, introduces us to England in 1910 and the troubled Banks family. Young Jane and Michael have sent many a nanny packing before Mary Poppins arrives on their doorstep. Using a combination of magic and common sense\, she must teach the family members how to value each other again. Mary Poppins takes the children on many magical and memorable adventures\, but Jane and Michael aren’t the only ones she has a profound effect upon. Even adults can learn a lesson or two from the nanny who advises: “Anything can happen if you let it.”  \nThis production will be performed by talented 9th-12th grade students from the Starting Arts’ Dream Team program. The Dream Team program is an audition-only group in which talented students from all over the Bay Area receive top notch training in music\, theatre\, and dance. \nThis performance runs for approximately 2 hours with a 15 minute intermission.
URL:https://hammertheatre.com/event/starting-arts-presents-mary-poppins/
CATEGORIES:Theatre
END:VEVENT
BEGIN:VEVENT
DTSTART;TZID=America/Los_Angeles:20191018T110000
DTEND;TZID=America/Los_Angeles:20191018T110000
DTSTAMP:20260422T035331
CREATED:20190522T201250Z
LAST-MODIFIED:20190813T201702Z
UID:2679-1571396400-1571396400@hammertheatre.com
SUMMARY:Actors from the London Stage - Twelfth Night
DESCRIPTION:Mistaken identities\, disguises\, and love triangles: Shakespeare’s Twelfth Night sees the great playwright blending his comic and dramatic devices with masterful dexterity. Even now\, its riches entertain and delight\, with some of Shakespeare’s most famed language bolstered by deeper\, richer currents of love\, desire\, grief\, and transformation. Twelfth Night is a deliriously enjoyable romantic comedy not to be missed. \nShipwrecked on the Illyrian coast\, Viola\, an aristocrat by birth\, searches for her long-lost twin brother Sebastian. Believing him drowned\, she disguises herself as a boy named “Cesario” and goes to work for Duke Orsino\, who is in love with Lady Olivia. Olivia\, mourning the deaths of her father and brother\, instead falls in love with Cesario\, who is herself falling for the Duke.  Meanwhile\, the scheming steward Malvolio endures a series of practical jokes\, creating a delightful tangle of comic complications on the way to a memorably joyful ending. \nFounded in 1975\, Actors From The London Stage is one of the oldest touring Shakespeare theatre companies in the world. Housed and workshopped in the UK and based in the United States at Shakespeare at Notre Dame\, this intensive residency program is truly one of a kind. Coming from such prestigious companies as the Royal Shakespeare Company\, the Royal National Theatre of Great Britain\, and Shakespeare’s Globe\, AFTLS actors are uniquely focused on student engagement across the academic spectrum as well as the creation of a collaborative learning environment in which to experience Shakespeare’s texts and universal themes. Throughout the first week of October\, AFTLS be holding workshops at San José State University. The vibrant hands-on nature of the program provides an extraordinary opportunity to engage faculty and students far beyond the confines of the English and Theatre departments.
URL:https://hammertheatre.com/event/actors-from-the-london-stage/
CATEGORIES:Theatre
END:VEVENT
END:VCALENDAR